BEGIN:VCALENDAR
VERSION:2.0
PRODID:-//Crown &amp; Bull - ECPv6.15.20//NONSGML v1.0//EN
CALSCALE:GREGORIAN
METHOD:PUBLISH
X-ORIGINAL-URL:https://www.crownandbull.com
X-WR-CALDESC:Events for Crown &amp; Bull
REFRESH-INTERVAL;VALUE=DURATION:PT1H
X-Robots-Tag:noindex
X-PUBLISHED-TTL:PT1H
BEGIN:VTIMEZONE
TZID:UTC
BEGIN:STANDARD
TZOFFSETFROM:+0000
TZOFFSETTO:+0000
TZNAME:UTC
DTSTART:20180101T000000
END:STANDARD
END:VTIMEZONE
BEGIN:VEVENT
DTSTART;TZID=UTC:20190209T220000
DTEND;TZID=UTC:20190209T220000
DTSTAMP:20260422T153605
CREATED:20190208T152911Z
LAST-MODIFIED:20190208T152947Z
UID:1502-1549749600-1549749600@www.crownandbull.com
SUMMARY:LIVE DJ - CUTTY JONES @ 10PM
DESCRIPTION:LIVE DJ – CUTTY JONES @ 10PM
URL:https://www.crownandbull.com/event/live-dj-cutty-jones-10pm-11/
LOCATION:FL
CATEGORIES:Live DJ
END:VEVENT
BEGIN:VEVENT
DTSTART;TZID=UTC:20190210T200000
DTEND;TZID=UTC:20190210T230000
DTSTAMP:20260422T153605
CREATED:20190208T155205Z
LAST-MODIFIED:20190208T155205Z
UID:1526-1549828800-1549839600@www.crownandbull.com
SUMMARY:LIVE MUSIC - CHRIS McCARTY @ 8PM
DESCRIPTION:LIVE MUSIC – CHRIS McCARTY @ 8PM
URL:https://www.crownandbull.com/event/live-music-chris-mccarty-8pm-20/
LOCATION:FL
CATEGORIES:Live Music
END:VEVENT
BEGIN:VEVENT
DTSTART;TZID=UTC:20190211T200000
DTEND;TZID=UTC:20190211T230000
DTSTAMP:20260422T153605
CREATED:20190208T155011Z
LAST-MODIFIED:20190208T155011Z
UID:1520-1549915200-1549926000@www.crownandbull.com
SUMMARY:LIVE MUSIC - ERIC ENGLE @ 8PM
DESCRIPTION:LIVE MUSIC – ERIC ENGLE @ 8PM
URL:https://www.crownandbull.com/event/live-music-eric-engle-8pm-9/
LOCATION:FL
CATEGORIES:Live Music
END:VEVENT
BEGIN:VEVENT
DTSTART;TZID=UTC:20190213T190000
DTEND;TZID=UTC:20190213T230000
DTSTAMP:20260422T153605
CREATED:20190208T152212Z
LAST-MODIFIED:20190208T152323Z
UID:1491-1550084400-1550098800@www.crownandbull.com
SUMMARY:LIVE MUSIC - SEAN DELONG @ 7PM
DESCRIPTION:LIVE MUSIC – SEAN DELONG @ 7PM
URL:https://www.crownandbull.com/event/1491/
LOCATION:FL
CATEGORIES:Live Music
END:VEVENT
BEGIN:VEVENT
DTSTART;TZID=UTC:20190214T200000
DTEND;TZID=UTC:20190214T230000
DTSTAMP:20260422T153605
CREATED:20190208T154745Z
LAST-MODIFIED:20190208T154745Z
UID:1514-1550174400-1550185200@www.crownandbull.com
SUMMARY:LIVE MUSIC - CHRIS McCARTY @ 8PM
DESCRIPTION:LIVE MUSIC – CHRIS McCARTY @ 8PM
URL:https://www.crownandbull.com/event/live-music-chris-mccarty-8pm-18/
LOCATION:FL
CATEGORIES:Live Music
END:VEVENT
BEGIN:VEVENT
DTSTART;TZID=UTC:20190216T220000
DTEND;TZID=UTC:20190216T220000
DTSTAMP:20260422T153605
CREATED:20190208T153016Z
LAST-MODIFIED:20190208T153016Z
UID:1504-1550354400-1550354400@www.crownandbull.com
SUMMARY:LIVE DJ - CUTTY JONES @ 10PM
DESCRIPTION:LIVE DJ – CUTTY JONES @ 10PM
URL:https://www.crownandbull.com/event/live-dj-cutty-jones-10pm-12/
LOCATION:FL
CATEGORIES:Live DJ
END:VEVENT
BEGIN:VEVENT
DTSTART;TZID=UTC:20190217T200000
DTEND;TZID=UTC:20190217T230000
DTSTAMP:20260422T153605
CREATED:20190208T155227Z
LAST-MODIFIED:20190208T155227Z
UID:1528-1550433600-1550444400@www.crownandbull.com
SUMMARY:LIVE MUSIC - CHRIS McCARTY @ 8PM
DESCRIPTION:LIVE MUSIC – CHRIS McCARTY @ 8PM
URL:https://www.crownandbull.com/event/live-music-chris-mccarty-8pm-21/
LOCATION:FL
CATEGORIES:Live Music
END:VEVENT
BEGIN:VEVENT
DTSTART;TZID=UTC:20190218T200000
DTEND;TZID=UTC:20190218T230000
DTSTAMP:20260422T153605
CREATED:20190208T155033Z
LAST-MODIFIED:20190208T155033Z
UID:1522-1550520000-1550530800@www.crownandbull.com
SUMMARY:LIVE MUSIC - ERIC ENGLE @ 8PM
DESCRIPTION:LIVE MUSIC – ERIC ENGLE @ 8PM
URL:https://www.crownandbull.com/event/live-music-eric-engle-8pm-11/
LOCATION:FL
CATEGORIES:Live Music
END:VEVENT
BEGIN:VEVENT
DTSTART;TZID=UTC:20190220T080000
DTEND;TZID=UTC:20190220T170000
DTSTAMP:20260422T153606
CREATED:20190208T152501Z
LAST-MODIFIED:20190208T152501Z
UID:1497-1550649600-1550682000@www.crownandbull.com
SUMMARY:LIVE MUSIC - SEAN DELONG @ 7PM
DESCRIPTION:LIVE MUSIC – SEAN DELONG @ 7PM
URL:https://www.crownandbull.com/event/live-music-sean-delong-7pm-8/
LOCATION:FL
CATEGORIES:Live Music
END:VEVENT
BEGIN:VEVENT
DTSTART;TZID=UTC:20190220T183000
DTEND;TZID=UTC:20190220T203000
DTSTAMP:20260422T153606
CREATED:20190208T154047Z
LAST-MODIFIED:20190208T154047Z
UID:1508-1550687400-1550694600@www.crownandbull.com
SUMMARY:Resin Based Art Workshop-Dunedin Fl @ Kelly's Chica Boom Room
DESCRIPTION:Resin Based Art Workshop-Dunedin Fl at Kelly’s Chica Boom Room
URL:https://www.crownandbull.com/event/resin-based-art-workshop-dunedin-fl-kellys-chica-boom-room/
LOCATION:Crown&Bull\, 319 main street\, dunedin\, FL\, 34698\, United States
CATEGORIES:Arts
END:VEVENT
BEGIN:VEVENT
DTSTART;TZID=UTC:20190221T190000
DTEND;TZID=UTC:20190221T190000
DTSTAMP:20260422T153606
CREATED:20190201T180944Z
LAST-MODIFIED:20190208T154223Z
UID:1488-1550775600-1550775600@www.crownandbull.com
SUMMARY:1st Annual Little Black Dress Party
DESCRIPTION:
URL:https://www.crownandbull.com/event/1st-annual-little-black-dress-party/
LOCATION:FL
CATEGORIES:Themed Party
END:VEVENT
BEGIN:VEVENT
DTSTART;TZID=UTC:20190221T200000
DTEND;TZID=UTC:20190221T230000
DTSTAMP:20260422T153606
CREATED:20190208T154902Z
LAST-MODIFIED:20190208T154902Z
UID:1518-1550779200-1550790000@www.crownandbull.com
SUMMARY:LIVE MUSIC - CUTTY JONES @ 8PM
DESCRIPTION:LIVE MUSIC – CUTTY JONES @ 8PM
URL:https://www.crownandbull.com/event/live-music-cutty-jones-8pm-8/
LOCATION:FL
CATEGORIES:Live Music
END:VEVENT
BEGIN:VEVENT
DTSTART;TZID=UTC:20190224T200000
DTEND;TZID=UTC:20190224T230000
DTSTAMP:20260422T153606
CREATED:20190208T155250Z
LAST-MODIFIED:20191205T044914Z
UID:1530-1551038400-1551049200@www.crownandbull.com
SUMMARY:LIVE MUSIC - CHRIS McCARTY @ 8PM
DESCRIPTION:
URL:https://www.crownandbull.com/event/live-music-chris-mccarty-8pm-22/
LOCATION:FL
CATEGORIES:Live Music
END:VEVENT
BEGIN:VEVENT
DTSTART;TZID=UTC:20190225T200000
DTEND;TZID=UTC:20190225T230000
DTSTAMP:20260422T153606
CREATED:20190208T155054Z
LAST-MODIFIED:20190208T155054Z
UID:1524-1551124800-1551135600@www.crownandbull.com
SUMMARY:LIVE MUSIC - ERIC ENGLE @ 8PM
DESCRIPTION:LIVE MUSIC – ERIC ENGLE @ 8PM
URL:https://www.crownandbull.com/event/live-music-eric-engle-8pm-12/
LOCATION:FL
CATEGORIES:Live Music
END:VEVENT
BEGIN:VEVENT
DTSTART;TZID=UTC:20190228T200000
DTEND;TZID=UTC:20190228T230000
DTSTAMP:20260422T153606
CREATED:20190208T154812Z
LAST-MODIFIED:20191205T044659Z
UID:1516-1551384000-1551394800@www.crownandbull.com
SUMMARY:LIVE MUSIC - CHRIS McCARTY @ 8PM
DESCRIPTION:LIVE MUSIC – CHRIS McCARTY @ 8PM
URL:https://www.crownandbull.com/event/live-music-chris-mccarty-8pm-19/
LOCATION:FL
CATEGORIES:Live Music
END:VEVENT
END:VCALENDAR