BEGIN:VCALENDAR
VERSION:2.0
PRODID:-//Crown &amp; Bull - ECPv6.15.20//NONSGML v1.0//EN
CALSCALE:GREGORIAN
METHOD:PUBLISH
X-WR-CALNAME:Crown &amp; Bull
X-ORIGINAL-URL:https://www.crownandbull.com
X-WR-CALDESC:Events for Crown &amp; Bull
REFRESH-INTERVAL;VALUE=DURATION:PT1H
X-Robots-Tag:noindex
X-PUBLISHED-TTL:PT1H
BEGIN:VTIMEZONE
TZID:UTC
BEGIN:STANDARD
TZOFFSETFROM:+0000
TZOFFSETTO:+0000
TZNAME:UTC
DTSTART:20170101T000000
END:STANDARD
END:VTIMEZONE
BEGIN:VEVENT
DTSTART;TZID=UTC:20180917T190000
DTEND;TZID=UTC:20180917T190000
DTSTAMP:20260422T000706
CREATED:20180906T165407Z
LAST-MODIFIED:20180906T165407Z
UID:1485-1537210800-1537210800@www.crownandbull.com
SUMMARY:Live Jazz Music - The Group Next Door @ 7pm
DESCRIPTION:
URL:https://www.crownandbull.com/event/live-jazz-music-the-group-next-door-7pm/
END:VEVENT
BEGIN:VEVENT
DTSTART;TZID=UTC:20180916T200000
DTEND;TZID=UTC:20180916T200000
DTSTAMP:20260422T000706
CREATED:20180906T164517Z
LAST-MODIFIED:20180906T164517Z
UID:1474-1537128000-1537128000@www.crownandbull.com
SUMMARY:Live Music - Chris McCarty @ 8pm
DESCRIPTION:
URL:https://www.crownandbull.com/event/live-music-chris-mccarty-8pm-15/
END:VEVENT
BEGIN:VEVENT
DTSTART;TZID=UTC:20180915T220000
DTEND;TZID=UTC:20180915T220000
DTSTAMP:20260422T000706
CREATED:20180906T164253Z
LAST-MODIFIED:20180906T164253Z
UID:1468-1537048800-1537048800@www.crownandbull.com
SUMMARY:Live DJ - Cutty Jones @ 10pm
DESCRIPTION:
URL:https://www.crownandbull.com/event/live-dj-cutty-jones-10pm-8/
END:VEVENT
BEGIN:VEVENT
DTSTART;TZID=UTC:20180915T080000
DTEND;TZID=UTC:20180915T080000
DTSTAMP:20260422T000706
CREATED:20180906T165004Z
LAST-MODIFIED:20180906T165030Z
UID:1482-1536998400-1536998400@www.crownandbull.com
SUMMARY:Half Way to St. Patty's Day Party! - ALL DAY ALL NIGHT
DESCRIPTION:
URL:https://www.crownandbull.com/event/half-way-to-st-pattys-day-party-all-day-all-night/
END:VEVENT
BEGIN:VEVENT
DTSTART;TZID=UTC:20180914T220000
DTEND;TZID=UTC:20180914T220000
DTSTAMP:20260422T000706
CREATED:20180906T162708Z
LAST-MODIFIED:20180906T162708Z
UID:1446-1536962400-1536962400@www.crownandbull.com
SUMMARY:Live DJ @ 10pm
DESCRIPTION:
URL:https://www.crownandbull.com/event/live-dj-10pm-7/
END:VEVENT
BEGIN:VEVENT
DTSTART;TZID=UTC:20180913T200000
DTEND;TZID=UTC:20180913T200000
DTSTAMP:20260422T000706
CREATED:20180906T162544Z
LAST-MODIFIED:20180906T162544Z
UID:1444-1536868800-1536868800@www.crownandbull.com
SUMMARY:Live Music - Chris McCarty @ 8pm
DESCRIPTION:
URL:https://www.crownandbull.com/event/live-music-chris-mccarty-8pm-13/
END:VEVENT
BEGIN:VEVENT
DTSTART;TZID=UTC:20180912T190000
DTEND;TZID=UTC:20180912T220000
DTSTAMP:20260422T000706
CREATED:20180906T162442Z
LAST-MODIFIED:20180906T162442Z
UID:1442-1536778800-1536789600@www.crownandbull.com
SUMMARY:Live Music - Sean DeLong @ 7pm
DESCRIPTION:
URL:https://www.crownandbull.com/event/live-music-sean-delong-7pm-4/
END:VEVENT
BEGIN:VEVENT
DTSTART;TZID=UTC:20180911T210000
DTEND;TZID=UTC:20180911T210000
DTSTAMP:20260422T000706
CREATED:20180906T162257Z
LAST-MODIFIED:20180906T162257Z
UID:1440-1536699600-1536699600@www.crownandbull.com
SUMMARY:Live DJ AB Gomez @ 9pm
DESCRIPTION:
URL:https://www.crownandbull.com/event/live-dj-ab-gomez-9pm/
END:VEVENT
BEGIN:VEVENT
DTSTART;TZID=UTC:20180910T200000
DTEND;TZID=UTC:20180910T200000
DTSTAMP:20260422T000706
CREATED:20180906T161519Z
LAST-MODIFIED:20180906T161519Z
UID:1438-1536609600-1536609600@www.crownandbull.com
SUMMARY:Live Music - Eric Engle @ 8pm
DESCRIPTION:
URL:https://www.crownandbull.com/event/live-music-eric-engle-8pm-8/
END:VEVENT
BEGIN:VEVENT
DTSTART;TZID=UTC:20180910T190000
DTEND;TZID=UTC:20180910T190000
DTSTAMP:20260422T000706
CREATED:20180906T164759Z
LAST-MODIFIED:20180906T164759Z
UID:1480-1536606000-1536606000@www.crownandbull.com
SUMMARY:Seinfeld Trivia Night @ 7pm
DESCRIPTION:
URL:https://www.crownandbull.com/event/seinfeld-trivia-night-7pm/
END:VEVENT
BEGIN:VEVENT
DTSTART;TZID=UTC:20180909T200000
DTEND;TZID=UTC:20180909T200000
DTSTAMP:20260422T000706
CREATED:20180906T161322Z
LAST-MODIFIED:20180906T161322Z
UID:1436-1536523200-1536523200@www.crownandbull.com
SUMMARY:Live Music - Chris McCarty @ 8pm
DESCRIPTION:
URL:https://www.crownandbull.com/event/live-music-chris-mccarty-8pm-12/
END:VEVENT
BEGIN:VEVENT
DTSTART;TZID=UTC:20180908T220000
DTEND;TZID=UTC:20180908T220000
DTSTAMP:20260422T000706
CREATED:20180906T161237Z
LAST-MODIFIED:20180906T161237Z
UID:1434-1536444000-1536444000@www.crownandbull.com
SUMMARY:Live DJ - Cutty Jones @ 10pm
DESCRIPTION:
URL:https://www.crownandbull.com/event/live-dj-cutty-jones-10pm-7/
END:VEVENT
BEGIN:VEVENT
DTSTART;TZID=UTC:20180907T220000
DTEND;TZID=UTC:20180907T220000
DTSTAMP:20260422T000706
CREATED:20180906T161049Z
LAST-MODIFIED:20180906T161049Z
UID:1432-1536357600-1536357600@www.crownandbull.com
SUMMARY:Live DJ @ 10pm
DESCRIPTION:
URL:https://www.crownandbull.com/event/live-dj-10pm-6/
END:VEVENT
BEGIN:VEVENT
DTSTART;TZID=UTC:20180906T200000
DTEND;TZID=UTC:20180906T230000
DTSTAMP:20260422T000706
CREATED:20180906T160936Z
LAST-MODIFIED:20180906T160936Z
UID:1430-1536264000-1536274800@www.crownandbull.com
SUMMARY:Live Music - Cutty Jones @ 8pm
DESCRIPTION:
URL:https://www.crownandbull.com/event/live-music-cutty-jones-8pm-6/
END:VEVENT
BEGIN:VEVENT
DTSTART;TZID=UTC:20180901T170000
DTEND;TZID=UTC:20180901T200000
DTSTAMP:20260422T000706
CREATED:20180830T161752Z
LAST-MODIFIED:20180830T161752Z
UID:1428-1535821200-1535832000@www.crownandbull.com
SUMMARY:Live Music - New Rulers (Ska Band) @ 5pm
DESCRIPTION:
URL:https://www.crownandbull.com/event/live-music-new-rulers-ska-band-5pm/
END:VEVENT
BEGIN:VEVENT
DTSTART;TZID=UTC:20180831T220000
DTEND;TZID=UTC:20180831T220000
DTSTAMP:20260422T000706
CREATED:20180830T161646Z
LAST-MODIFIED:20180830T161646Z
UID:1426-1535752800-1535752800@www.crownandbull.com
SUMMARY:Live DJ @ 10pm
DESCRIPTION:
URL:https://www.crownandbull.com/event/live-dj-10pm-5/
END:VEVENT
BEGIN:VEVENT
DTSTART;TZID=UTC:20180830T200000
DTEND;TZID=UTC:20180830T230000
DTSTAMP:20260422T000706
CREATED:20180830T161601Z
LAST-MODIFIED:20180830T161601Z
UID:1424-1535659200-1535670000@www.crownandbull.com
SUMMARY:Live Music - Chris McCarty @ 8pm
DESCRIPTION:
URL:https://www.crownandbull.com/event/live-music-chris-mccarty-8pm-11/
END:VEVENT
BEGIN:VEVENT
DTSTART;TZID=UTC:20180829T183000
DTEND;TZID=UTC:20180829T183000
DTSTAMP:20260422T000706
CREATED:20180730T162021Z
LAST-MODIFIED:20180730T162430Z
UID:1319-1535567400-1535567400@www.crownandbull.com
SUMMARY:Seascape Window Workshop @ 6:30pm
DESCRIPTION:
URL:https://www.crownandbull.com/event/seascape-window-workshop-630pm/
END:VEVENT
BEGIN:VEVENT
DTSTART;TZID=UTC:20180826T200000
DTEND;TZID=UTC:20180826T220000
DTSTAMP:20260422T000706
CREATED:20180803T164604Z
LAST-MODIFIED:20180803T164604Z
UID:1411-1535313600-1535320800@www.crownandbull.com
SUMMARY:Live Music - Chris McCarty @ 8pm
DESCRIPTION:
URL:https://www.crownandbull.com/event/live-music-chris-mccarty-8pm-10/
END:VEVENT
BEGIN:VEVENT
DTSTART;TZID=UTC:20180825T220000
DTEND;TZID=UTC:20180825T220000
DTSTAMP:20260422T000706
CREATED:20180803T164503Z
LAST-MODIFIED:20180803T164503Z
UID:1409-1535234400-1535234400@www.crownandbull.com
SUMMARY:Live DJ - Cutty Jones @ 10pm
DESCRIPTION:
URL:https://www.crownandbull.com/event/live-dj-cutty-jones-10pm-6/
END:VEVENT
BEGIN:VEVENT
DTSTART;TZID=UTC:20180824T220000
DTEND;TZID=UTC:20180824T220000
DTSTAMP:20260422T000706
CREATED:20180803T164418Z
LAST-MODIFIED:20180803T164418Z
UID:1407-1535148000-1535148000@www.crownandbull.com
SUMMARY:Live DJ - DJ Sloan @ 10pm
DESCRIPTION:
URL:https://www.crownandbull.com/event/live-dj-dj-sloan-10pm/
END:VEVENT
BEGIN:VEVENT
DTSTART;TZID=UTC:20180823T200000
DTEND;TZID=UTC:20180823T220000
DTSTAMP:20260422T000706
CREATED:20180803T163050Z
LAST-MODIFIED:20180803T163050Z
UID:1405-1535054400-1535061600@www.crownandbull.com
SUMMARY:Live Music - Cutty Jones @ 8pm
DESCRIPTION:
URL:https://www.crownandbull.com/event/live-music-cutty-jones-8pm-5/
END:VEVENT
BEGIN:VEVENT
DTSTART;TZID=UTC:20180822T190000
DTEND;TZID=UTC:20180822T220000
DTSTAMP:20260422T000706
CREATED:20180803T162645Z
LAST-MODIFIED:20180803T162645Z
UID:1401-1534964400-1534975200@www.crownandbull.com
SUMMARY:Live Music - Sean DeLong @ 7pm
DESCRIPTION:
URL:https://www.crownandbull.com/event/live-music-sean-delong-7pm-3/
END:VEVENT
BEGIN:VEVENT
DTSTART;TZID=UTC:20180820T190000
DTEND;TZID=UTC:20180820T220000
DTSTAMP:20260422T000706
CREATED:20180802T223646Z
LAST-MODIFIED:20180802T223646Z
UID:1374-1534791600-1534802400@www.crownandbull.com
SUMMARY:Live Music - The Group Next Door (Local Jazz Band) @ 7pm
DESCRIPTION:
URL:https://www.crownandbull.com/event/live-music-the-group-next-door-local-jazz-band-7pm/
END:VEVENT
BEGIN:VEVENT
DTSTART;TZID=UTC:20180819T200000
DTEND;TZID=UTC:20180819T220000
DTSTAMP:20260422T000706
CREATED:20180803T162915Z
LAST-MODIFIED:20180803T162915Z
UID:1403-1534708800-1534716000@www.crownandbull.com
SUMMARY:Live Music - Chris McCarty @ 8pm
DESCRIPTION:
URL:https://www.crownandbull.com/event/live-music-chris-mccarty-8pm-9/
END:VEVENT
BEGIN:VEVENT
DTSTART;TZID=UTC:20180818T220000
DTEND;TZID=UTC:20180818T220000
DTSTAMP:20260422T000706
CREATED:20180803T162523Z
LAST-MODIFIED:20180803T162523Z
UID:1399-1534629600-1534629600@www.crownandbull.com
SUMMARY:Live DJ - Cutty Jones @ 10pm
DESCRIPTION:
URL:https://www.crownandbull.com/event/live-dj-cutty-jones-10pm-5/
END:VEVENT
BEGIN:VEVENT
DTSTART;TZID=UTC:20180817T220000
DTEND;TZID=UTC:20180817T220000
DTSTAMP:20260422T000706
CREATED:20180803T162443Z
LAST-MODIFIED:20180803T162443Z
UID:1397-1534543200-1534543200@www.crownandbull.com
SUMMARY:Live DJ Melo @ 10pm
DESCRIPTION:
URL:https://www.crownandbull.com/event/live-dj-melo-10pm/
END:VEVENT
BEGIN:VEVENT
DTSTART;TZID=UTC:20180816T200000
DTEND;TZID=UTC:20180816T230000
DTSTAMP:20260422T000706
CREATED:20180803T162236Z
LAST-MODIFIED:20180803T162236Z
UID:1395-1534449600-1534460400@www.crownandbull.com
SUMMARY:Live Music - Chris McCarty @ 8pm
DESCRIPTION:
URL:https://www.crownandbull.com/event/live-music-chris-mccarty-8pm-8/
END:VEVENT
BEGIN:VEVENT
DTSTART;TZID=UTC:20180816T180000
DTEND;TZID=UTC:20180816T200000
DTSTAMP:20260422T000706
CREATED:20180730T161705Z
LAST-MODIFIED:20180730T161705Z
UID:1317-1534442400-1534449600@www.crownandbull.com
SUMMARY:Beer Dinner with HOB & Kelly's Chica Boom Room @ 6pm
DESCRIPTION:For more info\, follow us on Facebook! \nhttps://www.facebook.com/events/156282261843175/
URL:https://www.crownandbull.com/event/beer-dinner-with-hob-kellys-chica-boom-room-6pm/
END:VEVENT
BEGIN:VEVENT
DTSTART;TZID=UTC:20180815T190000
DTEND;TZID=UTC:20180815T220000
DTSTAMP:20260422T000706
CREATED:20180803T162134Z
LAST-MODIFIED:20180803T162134Z
UID:1393-1534359600-1534370400@www.crownandbull.com
SUMMARY:Live Music - Sean DeLong @ 7pm
DESCRIPTION:
URL:https://www.crownandbull.com/event/live-music-sean-delong-7pm-2/
END:VEVENT
END:VCALENDAR