BEGIN:VCALENDAR
VERSION:2.0
PRODID:-//Crown &amp; Bull - ECPv6.15.20//NONSGML v1.0//EN
CALSCALE:GREGORIAN
METHOD:PUBLISH
X-WR-CALNAME:Crown &amp; Bull
X-ORIGINAL-URL:https://www.crownandbull.com
X-WR-CALDESC:Events for Crown &amp; Bull
REFRESH-INTERVAL;VALUE=DURATION:PT1H
X-Robots-Tag:noindex
X-PUBLISHED-TTL:PT1H
BEGIN:VTIMEZONE
TZID:UTC
BEGIN:STANDARD
TZOFFSETFROM:+0000
TZOFFSETTO:+0000
TZNAME:UTC
DTSTART:20200101T000000
END:STANDARD
END:VTIMEZONE
BEGIN:VEVENT
DTSTART;TZID=UTC:20210524T183000
DTEND;TZID=UTC:20210524T230000
DTSTAMP:20260421T220742
CREATED:20210523T203424Z
LAST-MODIFIED:20210523T203424Z
UID:1717-1621881000-1621897200@www.crownandbull.com
SUMMARY:LIVE MUSIC - TYSON MARSHALL BAND @ 6:30p
DESCRIPTION:LIVE MUSIC – TYSON MARSHALL BAND @ 6:30p
URL:https://www.crownandbull.com/event/live-music-tyson-marshall-band-630p/
LOCATION:FL
CATEGORIES:Live Music
END:VEVENT
BEGIN:VEVENT
DTSTART;TZID=UTC:20210525T200000
DTEND;TZID=UTC:20210525T200000
DTSTAMP:20260421T220742
CREATED:20210523T203622Z
LAST-MODIFIED:20210523T203622Z
UID:1719-1621972800-1621972800@www.crownandbull.com
SUMMARY:LIVE MUSIC - ERIC ENGLE @ 8PM
DESCRIPTION:LIVE MUSIC – ERIC ENGLE @ 8PM
URL:https://www.crownandbull.com/event/live-music-eric-engle-8pm-13/
LOCATION:FL
CATEGORIES:Live Music
END:VEVENT
BEGIN:VEVENT
DTSTART;TZID=UTC:20210526T183000
DTEND;TZID=UTC:20210526T183000
DTSTAMP:20260421T220742
CREATED:20210523T203742Z
LAST-MODIFIED:20210523T204739Z
UID:1721-1622053800-1622053800@www.crownandbull.com
SUMMARY:LIVE MUSIC - JOHNNYB LIVE @ 6:30PM
DESCRIPTION:LIVE MUSIC – JOHNNYB LIVE@ 6:30PM
URL:https://www.crownandbull.com/event/live-music-johhny-b-7pm/
LOCATION:FL
CATEGORIES:Live Music
END:VEVENT
BEGIN:VEVENT
DTSTART;TZID=UTC:20210527T190000
DTEND;TZID=UTC:20210527T190000
DTSTAMP:20260421T220742
CREATED:20210523T205205Z
LAST-MODIFIED:20210523T205205Z
UID:1726-1622142000-1622142000@www.crownandbull.com
SUMMARY:LIVE MUSIC - ERIC ENGLE @ 7PM
DESCRIPTION:LIVE MUSIC – ERIC ENGLE @ 7PM
URL:https://www.crownandbull.com/event/live-music-eric-engle-7pm/
LOCATION:FL
CATEGORIES:Live Music
END:VEVENT
BEGIN:VEVENT
DTSTART;TZID=UTC:20210528T190000
DTEND;TZID=UTC:20210528T230000
DTSTAMP:20260421T220742
CREATED:20210523T211409Z
LAST-MODIFIED:20210523T211534Z
UID:1728-1622228400-1622242800@www.crownandbull.com
SUMMARY:LIVE MUSIC - TROPICAL BREEZE @ 7PM
DESCRIPTION:LIVE MUSIC – TROPICAL BREEZE @ 7PM
URL:https://www.crownandbull.com/event/live-music-tropical-breeze-7pm/
LOCATION:Crown & Bull\, 319 main street\, dunedin\, FL\, 34698\, United States
CATEGORIES:Live Music
END:VEVENT
BEGIN:VEVENT
DTSTART;TZID=UTC:20210530T220000
DTEND;TZID=UTC:20210530T220000
DTSTAMP:20260421T220742
CREATED:20210523T211654Z
LAST-MODIFIED:20210523T211654Z
UID:1732-1622412000-1622412000@www.crownandbull.com
SUMMARY:LIVE DJ - CUTTY JONES @ 10PM
DESCRIPTION:LIVE DJ – CUTTY JONES @ 10PM
URL:https://www.crownandbull.com/event/live-dj-cutty-jones-10pm-15/
LOCATION:Crown & Bull\, 319 main street\, dunedin\, FL\, 34698\, United States
CATEGORIES:Live DJ
END:VEVENT
BEGIN:VEVENT
DTSTART;TZID=UTC:20210531T183000
DTEND;TZID=UTC:20210531T230000
DTSTAMP:20260421T220742
CREATED:20210524T023900Z
LAST-MODIFIED:20210524T023900Z
UID:1734-1622485800-1622502000@www.crownandbull.com
SUMMARY:LIVE MUSIC - TYSON MARSHALL BAND @ 6:30p
DESCRIPTION:LIVE MUSIC – TYSON MARSHALL BAND @ 6:30p
URL:https://www.crownandbull.com/event/live-music-tyson-marshall-band-630p-2/
LOCATION:Crown & Bull\, 319 main street\, dunedin\, FL\, 34698\, United States
CATEGORIES:Live Music
END:VEVENT
BEGIN:VEVENT
DTSTART;TZID=UTC:20210601T190000
DTEND;TZID=UTC:20210601T230000
DTSTAMP:20260421T220742
CREATED:20210527T182646Z
LAST-MODIFIED:20210527T184248Z
UID:1742-1622574000-1622588400@www.crownandbull.com
SUMMARY:LIVE MUSIC - SEAN DELONG @ 7:00PM
DESCRIPTION:LIVE MUSIC – SEAN DELONG @ 7:00PM
URL:https://www.crownandbull.com/event/live-music-sean-delong-700pm/
LOCATION:Crown & Bull\, 319 main street\, dunedin\, FL\, 34698\, United States
CATEGORIES:Live Music
END:VEVENT
BEGIN:VEVENT
DTSTART;TZID=UTC:20210602T193000
DTEND;TZID=UTC:20210602T230000
DTSTAMP:20260421T220742
CREATED:20210527T183157Z
LAST-MODIFIED:20210527T184235Z
UID:1746-1622662200-1622674800@www.crownandbull.com
SUMMARY:LIVE MUSIC - THE BEN BRYAN BAND AT 7:30pm
DESCRIPTION:LIVE MUSIC – THE BEN BRYAN BAND AT 7:30pm
URL:https://www.crownandbull.com/event/live-music-the-ben-bryan-band-at-730pm/
LOCATION:Crown & Bull\, 319 main street\, dunedin\, FL\, 34698\, United States
CATEGORIES:Live Music
END:VEVENT
BEGIN:VEVENT
DTSTART;TZID=UTC:20210603T200000
DTEND;TZID=UTC:20210603T230000
DTSTAMP:20260421T220742
CREATED:20210527T183433Z
LAST-MODIFIED:20210527T184227Z
UID:1748-1622750400-1622761200@www.crownandbull.com
SUMMARY:LIVE MUSIC - ERIC ENGLE @ 8PM
DESCRIPTION:LIVE MUSIC – ERIC ENGLE @ 8PM
URL:https://www.crownandbull.com/event/live-music-eric-engle-8pm-14/
LOCATION:Crown & Bull\, 319 main street\, dunedin\, FL\, 34698\, United States
CATEGORIES:Live Music
END:VEVENT
BEGIN:VEVENT
DTSTART;TZID=UTC:20210604T190000
DTEND;TZID=UTC:20210604T230000
DTSTAMP:20260421T220742
CREATED:20210527T183656Z
LAST-MODIFIED:20210527T184218Z
UID:1750-1622833200-1622847600@www.crownandbull.com
SUMMARY:LIVE MUSIC - TROPICAL BREEZE @ 7PM
DESCRIPTION:LIVE MUSIC – TROPICAL BREEZE @ 7PM
URL:https://www.crownandbull.com/event/live-music-tropical-breeze-7pm-2/
LOCATION:Crown & Bull\, 319 main street\, dunedin\, FL\, 34698\, United States
CATEGORIES:Live Music
END:VEVENT
BEGIN:VEVENT
DTSTART;TZID=UTC:20210606T220000
DTEND;TZID=UTC:20210606T220000
DTSTAMP:20260421T220742
CREATED:20210527T183908Z
LAST-MODIFIED:20210527T183908Z
UID:1752-1623016800-1623016800@www.crownandbull.com
SUMMARY:LIVE DJ - CUTTY JONES @ 10PM
DESCRIPTION:LIVE DJ – CUTTY JONES @ 10PM
URL:https://www.crownandbull.com/event/live-dj-cutty-jones-10pm-16/
LOCATION:Crown & Bull\, 319 main street\, dunedin\, FL\, 34698\, United States
CATEGORIES:Live DJ
END:VEVENT
BEGIN:VEVENT
DTSTART;TZID=UTC:20210607T183000
DTEND;TZID=UTC:20210607T230000
DTSTAMP:20260421T220742
CREATED:20210527T184147Z
LAST-MODIFIED:20210527T184147Z
UID:1754-1623090600-1623106800@www.crownandbull.com
SUMMARY:LIVE MUSIC - TYSON MARSHALL BAND @ 6:30p
DESCRIPTION:LIVE MUSIC – TYSON MARSHALL BAND @ 6:30p
URL:https://www.crownandbull.com/event/live-music-tyson-marshall-band-630p-3/
LOCATION:Crown & Bull\, 319 main street\, dunedin\, FL\, 34698\, United States
CATEGORIES:Live Music
END:VEVENT
BEGIN:VEVENT
DTSTART;TZID=UTC:20210608T200000
DTEND;TZID=UTC:20210608T230000
DTSTAMP:20260421T220742
CREATED:20210527T184401Z
LAST-MODIFIED:20210527T184401Z
UID:1756-1623182400-1623193200@www.crownandbull.com
SUMMARY:LIVE MUSIC - ERIC ENGLE @ 8PM
DESCRIPTION:LIVE MUSIC – ERIC ENGLE @ 8PM
URL:https://www.crownandbull.com/event/live-music-eric-engle-8pm-15/
LOCATION:FL
CATEGORIES:Live Music
END:VEVENT
BEGIN:VEVENT
DTSTART;TZID=UTC:20210609T190000
DTEND;TZID=UTC:20210609T220000
DTSTAMP:20260421T220742
CREATED:20210701T153051Z
LAST-MODIFIED:20210701T153333Z
UID:1801-1623265200-1623276000@www.crownandbull.com
SUMMARY:LIVE MUSIC – JOHNNYB LIVE @ 7:00PM
DESCRIPTION:LIVE MUSIC – JOHNNYB LIVE @ 7:00PM
URL:https://www.crownandbull.com/event/1801/
LOCATION:Crown & Bull\, 319 main street\, dunedin\, FL\, 34698\, United States
CATEGORIES:Live Music
END:VEVENT
BEGIN:VEVENT
DTSTART;TZID=UTC:20210610T220000
DTEND;TZID=UTC:20210610T220000
DTSTAMP:20260421T220742
CREATED:20210701T153213Z
LAST-MODIFIED:20210701T153213Z
UID:1803-1623362400-1623362400@www.crownandbull.com
SUMMARY:LIVE DJ - CUTTY JONES @ 10PM
DESCRIPTION:LIVE DJ – CUTTY JONES @ 10PM
URL:https://www.crownandbull.com/event/live-dj-cutty-jones-10pm-17/
LOCATION:Crown & Bull\, 319 main street\, dunedin\, FL\, 34698\, United States
CATEGORIES:Live DJ
END:VEVENT
BEGIN:VEVENT
DTSTART;TZID=UTC:20210613T220000
DTEND;TZID=UTC:20210613T233000
DTSTAMP:20260421T220742
CREATED:20210701T153625Z
LAST-MODIFIED:20210701T153625Z
UID:1807-1623621600-1623627000@www.crownandbull.com
SUMMARY:LIVE DJ - CUTTY JONES @ 10PM
DESCRIPTION:LIVE DJ – CUTTY JONES @ 10PM
URL:https://www.crownandbull.com/event/live-dj-cutty-jones-10pm-18/
LOCATION:Crown & Bull\, 319 main street\, dunedin\, FL\, 34698\, United States
CATEGORIES:Live DJ
END:VEVENT
BEGIN:VEVENT
DTSTART;TZID=UTC:20210614T183000
DTEND;TZID=UTC:20210614T220000
DTSTAMP:20260421T220742
CREATED:20210701T153803Z
LAST-MODIFIED:20210701T153846Z
UID:1809-1623695400-1623708000@www.crownandbull.com
SUMMARY:LIVE MUSIC - TYSON MARSHALL BAND @ 6:30pm
DESCRIPTION:LIVE MUSIC – TYSON MARSHALL BAND @ 6:30pm
URL:https://www.crownandbull.com/event/live-music-tyson-marshall-band-630p-4/
LOCATION:Crown & Bull\, 319 main street\, dunedin\, FL\, 34698\, United States
CATEGORIES:Live Music
END:VEVENT
BEGIN:VEVENT
DTSTART;TZID=UTC:20210615T183000
DTEND;TZID=UTC:20210615T220000
DTSTAMP:20260421T220742
CREATED:20210701T154026Z
LAST-MODIFIED:20210701T154026Z
UID:1812-1623781800-1623794400@www.crownandbull.com
SUMMARY:LIVE MUSIC - SEAN DELONG @ 6:30PM
DESCRIPTION:LIVE MUSIC – SEAN DELONG @ 6:30PM
URL:https://www.crownandbull.com/event/live-music-sean-delong-630pm/
LOCATION:Crown & Bull\, 319 main street\, dunedin\, FL\, 34698\, United States
CATEGORIES:Live Music
END:VEVENT
BEGIN:VEVENT
DTSTART;TZID=UTC:20210616T193000
DTEND;TZID=UTC:20210616T220000
DTSTAMP:20260421T220742
CREATED:20210701T154214Z
LAST-MODIFIED:20210701T154214Z
UID:1814-1623871800-1623880800@www.crownandbull.com
SUMMARY:LIVE MUSIC - THE BEN BRYAN BAND AT 7:30pm
DESCRIPTION:LIVE MUSIC – THE BEN BRYAN BAND AT 7:30pm
URL:https://www.crownandbull.com/event/live-music-the-ben-bryan-band-at-730pm-2/
LOCATION:FL
CATEGORIES:Live DJ
END:VEVENT
BEGIN:VEVENT
DTSTART;TZID=UTC:20210617T200000
DTEND;TZID=UTC:20210617T233000
DTSTAMP:20260421T220742
CREATED:20210701T154407Z
LAST-MODIFIED:20210701T154407Z
UID:1816-1623960000-1623972600@www.crownandbull.com
SUMMARY:LIVE MUSIC - ERIC ENGLE @ 8PM
DESCRIPTION:LIVE MUSIC – ERIC ENGLE @ 8PM
URL:https://www.crownandbull.com/event/live-music-eric-engle-8pm-16/
LOCATION:Crown & Bull\, 319 main street\, dunedin\, FL\, 34698\, United States
CATEGORIES:Live Music
END:VEVENT
BEGIN:VEVENT
DTSTART;TZID=UTC:20210620T200000
DTEND;TZID=UTC:20210620T233000
DTSTAMP:20260421T220742
CREATED:20210701T154515Z
LAST-MODIFIED:20210701T154515Z
UID:1818-1624219200-1624231800@www.crownandbull.com
SUMMARY:LIVE MUSIC - ERIC ENGLE @ 8PM
DESCRIPTION:LIVE MUSIC – ERIC ENGLE @ 8PM
URL:https://www.crownandbull.com/event/live-music-eric-engle-8pm-17/
LOCATION:Crown & Bull\, 319 main street\, dunedin\, FL\, 34698\, United States
CATEGORIES:Live Music
END:VEVENT
BEGIN:VEVENT
DTSTART;TZID=UTC:20210621T183000
DTEND;TZID=UTC:20210621T223000
DTSTAMP:20260421T220742
CREATED:20210701T154640Z
LAST-MODIFIED:20210701T154650Z
UID:1820-1624300200-1624314600@www.crownandbull.com
SUMMARY:LIVE MUSIC - TYSON MARSHALL BAND @ 6:30p
DESCRIPTION:LIVE MUSIC – TYSON MARSHALL BAND @ 6:30p
URL:https://www.crownandbull.com/event/live-music-tyson-marshall-band-630p-5/
LOCATION:FL
END:VEVENT
BEGIN:VEVENT
DTSTART;TZID=UTC:20210622T080000
DTEND;TZID=UTC:20210622T170000
DTSTAMP:20260421T220742
CREATED:20210701T154755Z
LAST-MODIFIED:20210701T154755Z
UID:1823-1624348800-1624381200@www.crownandbull.com
SUMMARY:LIVE MUSIC - ERIC ENGLE @ 8PM
DESCRIPTION:LIVE MUSIC – ERIC ENGLE @ 8PM
URL:https://www.crownandbull.com/event/live-music-eric-engle-8pm-18/
LOCATION:Crown & Bull\, 319 main street\, dunedin\, FL\, 34698\, United States
CATEGORIES:Live Music
END:VEVENT
BEGIN:VEVENT
DTSTART;TZID=UTC:20210623T180000
DTEND;TZID=UTC:20210623T223000
DTSTAMP:20260421T220742
CREATED:20210701T154912Z
LAST-MODIFIED:20210701T154912Z
UID:1825-1624471200-1624487400@www.crownandbull.com
SUMMARY:LIVE MUSIC – JOHNNYB LIVE @ 6:30PM
DESCRIPTION:LIVE MUSIC – JOHNNYB LIVE @ 6:30PM
URL:https://www.crownandbull.com/event/live-music-johnnyb-live-630pm/
LOCATION:Crown & Bull\, 319 main street\, dunedin\, FL\, 34698\, United States
CATEGORIES:Live Music
END:VEVENT
BEGIN:VEVENT
DTSTART;TZID=UTC:20210624T220000
DTEND;TZID=UTC:20210624T233000
DTSTAMP:20260421T220742
CREATED:20210701T155027Z
LAST-MODIFIED:20210701T155055Z
UID:1827-1624572000-1624577400@www.crownandbull.com
SUMMARY:LIVE DJ - CUTTY JONES @ 10PM
DESCRIPTION:LIVE DJ – CUTTY JONES @ 10PM
URL:https://www.crownandbull.com/event/live-dj-cutty-jones-10pm-19/
LOCATION:Crown & Bull\, 319 main street\, dunedin\, FL\, 34698\, United States
CATEGORIES:Live Music
END:VEVENT
BEGIN:VEVENT
DTSTART;TZID=UTC:20210625T200000
DTEND;TZID=UTC:20210625T230000
DTSTAMP:20260421T220742
CREATED:20210701T155312Z
LAST-MODIFIED:20210701T155312Z
UID:1829-1624651200-1624662000@www.crownandbull.com
SUMMARY:LIVE MUSIC - TROPICAL BREEZE @ 8PM
DESCRIPTION:LIVE MUSIC – TROPICAL BREEZE @ 8PM
URL:https://www.crownandbull.com/event/live-music-tropical-breeze-8pm/
LOCATION:Crown & Bull\, 319 main street\, dunedin\, FL\, 34698\, United States
CATEGORIES:Live Music
END:VEVENT
BEGIN:VEVENT
DTSTART;TZID=UTC:20210627T220000
DTEND;TZID=UTC:20210627T233000
DTSTAMP:20260421T220742
CREATED:20210701T155419Z
LAST-MODIFIED:20210701T155419Z
UID:1831-1624831200-1624836600@www.crownandbull.com
SUMMARY:LIVE DJ - CUTTY JONES @ 10PM
DESCRIPTION:LIVE DJ – CUTTY JONES @ 10PM
URL:https://www.crownandbull.com/event/live-dj-cutty-jones-10pm-20/
LOCATION:Crown & Bull\, 319 main street\, dunedin\, FL\, 34698\, United States
CATEGORIES:Live DJ
END:VEVENT
BEGIN:VEVENT
DTSTART;TZID=UTC:20210628T183000
DTEND;TZID=UTC:20210628T220000
DTSTAMP:20260421T220742
CREATED:20210701T155557Z
LAST-MODIFIED:20210701T155557Z
UID:1833-1624905000-1624917600@www.crownandbull.com
SUMMARY:LIVE MUSIC - TYSON MARSHALL BAND @ 6:30pm
DESCRIPTION:LIVE MUSIC – TYSON MARSHALL BAND @ 6:30pm
URL:https://www.crownandbull.com/event/live-music-tyson-marshall-band-630pm-2/
LOCATION:Crown & Bull\, 319 main street\, dunedin\, FL\, 34698\, United States
CATEGORIES:Live Music
END:VEVENT
BEGIN:VEVENT
DTSTART;TZID=UTC:20210629T183000
DTEND;TZID=UTC:20210629T183000
DTSTAMP:20260421T220742
CREATED:20210701T155736Z
LAST-MODIFIED:20210701T155736Z
UID:1835-1624991400-1624991400@www.crownandbull.com
SUMMARY:LIVE MUSIC - SEAN DELONG @ 6:30PM
DESCRIPTION:LIVE MUSIC – SEAN DELONG @ 6:30PM
URL:https://www.crownandbull.com/event/live-music-sean-delong-630pm-2/
LOCATION:Crown & Bull\, 319 main street\, dunedin\, FL\, 34698\, United States
CATEGORIES:Live Music
END:VEVENT
END:VCALENDAR