BEGIN:VCALENDAR
VERSION:2.0
PRODID:-//Crown &amp; Bull - ECPv6.15.20//NONSGML v1.0//EN
CALSCALE:GREGORIAN
METHOD:PUBLISH
X-WR-CALNAME:Crown &amp; Bull
X-ORIGINAL-URL:https://www.crownandbull.com
X-WR-CALDESC:Events for Crown &amp; Bull
REFRESH-INTERVAL;VALUE=DURATION:PT1H
X-Robots-Tag:noindex
X-PUBLISHED-TTL:PT1H
BEGIN:VTIMEZONE
TZID:UTC
BEGIN:STANDARD
TZOFFSETFROM:+0000
TZOFFSETTO:+0000
TZNAME:UTC
DTSTART:20170101T000000
END:STANDARD
END:VTIMEZONE
BEGIN:VEVENT
DTSTART;TZID=UTC:20180607T190000
DTEND;TZID=UTC:20180607T230000
DTSTAMP:20260423T050710
CREATED:20180606T182704Z
LAST-MODIFIED:20180606T182837Z
UID:1184-1528398000-1528412400@www.crownandbull.com
SUMMARY:Live Music - Sean DeLong @ 7pm & Cutty Jones @ 11pm
DESCRIPTION:
URL:https://www.crownandbull.com/event/live-music-sean-delong-7pm-cutty-jones-11pm/
END:VEVENT
BEGIN:VEVENT
DTSTART;TZID=UTC:20180606T200000
DTEND;TZID=UTC:20180606T230000
DTSTAMP:20260423T050710
CREATED:20180606T182458Z
LAST-MODIFIED:20180606T182458Z
UID:1182-1528315200-1528326000@www.crownandbull.com
SUMMARY:Live Music - Sean DeLong @ 8pm
DESCRIPTION:
URL:https://www.crownandbull.com/event/live-music-sean-delong-8pm/
END:VEVENT
END:VCALENDAR