BEGIN:VCALENDAR
VERSION:2.0
PRODID:-//Crown &amp; Bull - ECPv6.15.20//NONSGML v1.0//EN
CALSCALE:GREGORIAN
METHOD:PUBLISH
X-WR-CALNAME:Crown &amp; Bull
X-ORIGINAL-URL:https://www.crownandbull.com
X-WR-CALDESC:Events for Crown &amp; Bull
REFRESH-INTERVAL;VALUE=DURATION:PT1H
X-Robots-Tag:noindex
X-PUBLISHED-TTL:PT1H
BEGIN:VTIMEZONE
TZID:UTC
BEGIN:STANDARD
TZOFFSETFROM:+0000
TZOFFSETTO:+0000
TZNAME:UTC
DTSTART:20170101T000000
END:STANDARD
END:VTIMEZONE
BEGIN:VEVENT
DTSTART;TZID=UTC:20180811T220000
DTEND;TZID=UTC:20180811T220000
DTSTAMP:20260422T230501
CREATED:20180802T231548Z
LAST-MODIFIED:20180802T231548Z
UID:1386-1534024800-1534024800@www.crownandbull.com
SUMMARY:Live DJ - Cutty Jones @ 10pm
DESCRIPTION:
URL:https://www.crownandbull.com/event/live-dj-cutty-jones-10pm-4/
END:VEVENT
BEGIN:VEVENT
DTSTART;TZID=UTC:20180811T200000
DTEND;TZID=UTC:20180811T200000
DTSTAMP:20260422T230501
CREATED:20180730T161450Z
LAST-MODIFIED:20180730T161450Z
UID:1315-1534017600-1534017600@www.crownandbull.com
SUMMARY:A Midsummer Night's Dream @ 8pm
DESCRIPTION:For more info\, follow us on Facebook! \nhttps://www.facebook.com/events/179319966078741/ \n 
URL:https://www.crownandbull.com/event/a-midsummer-nights-dream-8pm/
END:VEVENT
BEGIN:VEVENT
DTSTART;TZID=UTC:20180810T220000
DTEND;TZID=UTC:20180810T220000
DTSTAMP:20260422T230501
CREATED:20180802T225128Z
LAST-MODIFIED:20180802T230752Z
UID:1380-1533938400-1533938400@www.crownandbull.com
SUMMARY:Live DJ - DJ Sloan @ 10pm
DESCRIPTION:
URL:https://www.crownandbull.com/event/live-music-cutty-jones-8pm-3/
END:VEVENT
BEGIN:VEVENT
DTSTART;TZID=UTC:20180809T200000
DTEND;TZID=UTC:20180809T230000
DTSTAMP:20260422T230501
CREATED:20180802T230923Z
LAST-MODIFIED:20180802T230923Z
UID:1384-1533844800-1533855600@www.crownandbull.com
SUMMARY:Live Music - Cutty Jones @ 8pm
DESCRIPTION:
URL:https://www.crownandbull.com/event/live-music-cutty-jones-8pm-4/
END:VEVENT
BEGIN:VEVENT
DTSTART;TZID=UTC:20180808T190000
DTEND;TZID=UTC:20180808T220000
DTSTAMP:20260422T230501
CREATED:20180802T224956Z
LAST-MODIFIED:20180802T224956Z
UID:1378-1533754800-1533765600@www.crownandbull.com
SUMMARY:Live Music - Sean DeLong @ 7pm
DESCRIPTION:
URL:https://www.crownandbull.com/event/live-music-sean-delong-7pm/
END:VEVENT
BEGIN:VEVENT
DTSTART;TZID=UTC:20180807T210000
DTEND;TZID=UTC:20180807T210000
DTSTAMP:20260422T230501
CREATED:20180802T224826Z
LAST-MODIFIED:20180802T224826Z
UID:1376-1533675600-1533675600@www.crownandbull.com
SUMMARY:Ladies Night Out @ 9pm-1am - Featuring Music by ROHRY O & LYNDON NYC
DESCRIPTION:
URL:https://www.crownandbull.com/event/ladies-night-out-9pm-1am-featuring-music-by-rohry-o-lyndon-nyc/
END:VEVENT
BEGIN:VEVENT
DTSTART;TZID=UTC:20180806T210000
DTEND;TZID=UTC:20180806T233000
DTSTAMP:20260422T230501
CREATED:20180802T223455Z
LAST-MODIFIED:20180802T223455Z
UID:1372-1533589200-1533598200@www.crownandbull.com
SUMMARY:Live Music - Eric Engle @ 9pm
DESCRIPTION:
URL:https://www.crownandbull.com/event/live-music-eric-engle-9pm/
END:VEVENT
BEGIN:VEVENT
DTSTART;TZID=UTC:20180806T190000
DTEND;TZID=UTC:20180806T190000
DTSTAMP:20260422T230501
CREATED:20180730T161119Z
LAST-MODIFIED:20180730T161201Z
UID:1313-1533582000-1533582000@www.crownandbull.com
SUMMARY:Sopranos Trivia Night @ 7pm
DESCRIPTION:For more info\, follow us on Facebook!  \nhttps://www.facebook.com/events/2225891584298481/
URL:https://www.crownandbull.com/event/sopranos-trivia-night-7pm/
END:VEVENT
BEGIN:VEVENT
DTSTART;TZID=UTC:20180805T200000
DTEND;TZID=UTC:20180805T230000
DTSTAMP:20260422T230501
CREATED:20180802T221726Z
LAST-MODIFIED:20180802T221726Z
UID:1370-1533499200-1533510000@www.crownandbull.com
SUMMARY:Live Music - Chris McCarty @ 8pm
DESCRIPTION:
URL:https://www.crownandbull.com/event/live-music-chris-mccarty-8pm-6/
END:VEVENT
BEGIN:VEVENT
DTSTART;TZID=UTC:20180804T220000
DTEND;TZID=UTC:20180804T220000
DTSTAMP:20260422T230501
CREATED:20180802T221604Z
LAST-MODIFIED:20180802T221624Z
UID:1368-1533420000-1533420000@www.crownandbull.com
SUMMARY:Live DJ - Cutty Jones @ 10pm
DESCRIPTION:
URL:https://www.crownandbull.com/event/live-dj-cutty-jones-10pm-3/
END:VEVENT
BEGIN:VEVENT
DTSTART;TZID=UTC:20180803T220000
DTEND;TZID=UTC:20180803T220000
DTSTAMP:20260422T230501
CREATED:20180802T221503Z
LAST-MODIFIED:20180802T221503Z
UID:1366-1533333600-1533333600@www.crownandbull.com
SUMMARY:Live DJD2 @ 10pm
DESCRIPTION:
URL:https://www.crownandbull.com/event/live-djd2-10pm/
END:VEVENT
BEGIN:VEVENT
DTSTART;TZID=UTC:20180802T200000
DTEND;TZID=UTC:20180802T230000
DTSTAMP:20260422T230501
CREATED:20180802T221219Z
LAST-MODIFIED:20180802T221219Z
UID:1364-1533240000-1533250800@www.crownandbull.com
SUMMARY:Live Music - Chris McCarty @ 8pm
DESCRIPTION:
URL:https://www.crownandbull.com/event/live-music-chris-mccarty-8pm-5/
END:VEVENT
BEGIN:VEVENT
DTSTART;TZID=UTC:20180630T220000
DTEND;TZID=UTC:20180630T220000
DTSTAMP:20260422T230501
CREATED:20180614T210209Z
LAST-MODIFIED:20180614T210209Z
UID:1299-1530396000-1530396000@www.crownandbull.com
SUMMARY:Live DJ - Cutty Jones @ 10pm
DESCRIPTION:
URL:https://www.crownandbull.com/event/live-dj-cutty-jones-10pm-2/
END:VEVENT
BEGIN:VEVENT
DTSTART;TZID=UTC:20180629T220000
DTEND;TZID=UTC:20180629T220000
DTSTAMP:20260422T230501
CREATED:20180614T210119Z
LAST-MODIFIED:20180614T210119Z
UID:1297-1530309600-1530309600@www.crownandbull.com
SUMMARY:Live DJ @ 10pm
DESCRIPTION:
URL:https://www.crownandbull.com/event/live-dj-10pm-4/
END:VEVENT
BEGIN:VEVENT
DTSTART;TZID=UTC:20180628T200000
DTEND;TZID=UTC:20180628T200000
DTSTAMP:20260422T230501
CREATED:20180614T210033Z
LAST-MODIFIED:20180614T210033Z
UID:1295-1530216000-1530216000@www.crownandbull.com
SUMMARY:Live Music - Cutty Jones @ 8pm
DESCRIPTION:
URL:https://www.crownandbull.com/event/live-music-cutty-jones-8pm-2/
END:VEVENT
BEGIN:VEVENT
DTSTART;TZID=UTC:20180627T200000
DTEND;TZID=UTC:20180627T200000
DTSTAMP:20260422T230501
CREATED:20180614T210004Z
LAST-MODIFIED:20180614T210004Z
UID:1293-1530129600-1530129600@www.crownandbull.com
SUMMARY:Live Music - Sean DeLong @ 8pm
DESCRIPTION:
URL:https://www.crownandbull.com/event/live-music-sean-delong-8pm-4/
END:VEVENT
BEGIN:VEVENT
DTSTART;TZID=UTC:20180626T200000
DTEND;TZID=UTC:20180626T200000
DTSTAMP:20260422T230501
CREATED:20180614T205758Z
LAST-MODIFIED:20180614T205758Z
UID:1291-1530043200-1530043200@www.crownandbull.com
SUMMARY:Live Music - Eric Engle @ 8pm
DESCRIPTION:
URL:https://www.crownandbull.com/event/live-music-eric-engle-8pm-6/
END:VEVENT
BEGIN:VEVENT
DTSTART;TZID=UTC:20180625T200000
DTEND;TZID=UTC:20180625T200000
DTSTAMP:20260422T230501
CREATED:20180614T205718Z
LAST-MODIFIED:20180614T205718Z
UID:1289-1529956800-1529956800@www.crownandbull.com
SUMMARY:Live Music - Eric Engle @ 8pm
DESCRIPTION:
URL:https://www.crownandbull.com/event/live-music-eric-engle-8pm-4/
END:VEVENT
BEGIN:VEVENT
DTSTART;TZID=UTC:20180624T200000
DTEND;TZID=UTC:20180624T200000
DTSTAMP:20260422T230501
CREATED:20180614T205614Z
LAST-MODIFIED:20180614T205614Z
UID:1287-1529870400-1529870400@www.crownandbull.com
SUMMARY:Live Music - Chris McCarty @ 8pm
DESCRIPTION:
URL:https://www.crownandbull.com/event/live-music-chris-mccarty-8pm-4/
END:VEVENT
BEGIN:VEVENT
DTSTART;TZID=UTC:20180623T220000
DTEND;TZID=UTC:20180623T220000
DTSTAMP:20260422T230501
CREATED:20180614T205524Z
LAST-MODIFIED:20180614T205524Z
UID:1285-1529791200-1529791200@www.crownandbull.com
SUMMARY:Live DJ - Cutty Jones @ 9pm
DESCRIPTION:
URL:https://www.crownandbull.com/event/live-dj-cutty-jones-9pm-2/
END:VEVENT
BEGIN:VEVENT
DTSTART;TZID=UTC:20180622T220000
DTEND;TZID=UTC:20180622T220000
DTSTAMP:20260422T230501
CREATED:20180614T205427Z
LAST-MODIFIED:20180614T205427Z
UID:1283-1529704800-1529704800@www.crownandbull.com
SUMMARY:Live DJ @ 10pm
DESCRIPTION:
URL:https://www.crownandbull.com/event/live-dj-10pm-3/
END:VEVENT
BEGIN:VEVENT
DTSTART;TZID=UTC:20180621T200000
DTEND;TZID=UTC:20180621T200000
DTSTAMP:20260422T230501
CREATED:20180614T205355Z
LAST-MODIFIED:20180614T205355Z
UID:1281-1529611200-1529611200@www.crownandbull.com
SUMMARY:Live Music - Chris McCarty @ 8pm
DESCRIPTION:
URL:https://www.crownandbull.com/event/live-music-chris-mccarty-8pm-3/
END:VEVENT
BEGIN:VEVENT
DTSTART;TZID=UTC:20180620T200000
DTEND;TZID=UTC:20180620T200000
DTSTAMP:20260422T230501
CREATED:20180614T205148Z
LAST-MODIFIED:20180614T205148Z
UID:1279-1529524800-1529524800@www.crownandbull.com
SUMMARY:Live Music - Sean DeLong @ 8pm
DESCRIPTION:
URL:https://www.crownandbull.com/event/live-music-sean-delong-8pm-3/
END:VEVENT
BEGIN:VEVENT
DTSTART;TZID=UTC:20180619T200000
DTEND;TZID=UTC:20180619T200000
DTSTAMP:20260422T230501
CREATED:20180614T205018Z
LAST-MODIFIED:20180614T205018Z
UID:1277-1529438400-1529438400@www.crownandbull.com
SUMMARY:Live Music - Eric Engle @ 8pm
DESCRIPTION:
URL:https://www.crownandbull.com/event/live-music-eric-engle-8pm-5/
END:VEVENT
BEGIN:VEVENT
DTSTART;TZID=UTC:20180618T200000
DTEND;TZID=UTC:20180618T200000
DTSTAMP:20260422T230501
CREATED:20180614T204814Z
LAST-MODIFIED:20180614T204814Z
UID:1273-1529352000-1529352000@www.crownandbull.com
SUMMARY:Live Music - Eric Engle @ 8pm
DESCRIPTION:
URL:https://www.crownandbull.com/event/live-music-eric-engle-8pm-3/
END:VEVENT
BEGIN:VEVENT
DTSTART;TZID=UTC:20180617T200000
DTEND;TZID=UTC:20180617T200000
DTSTAMP:20260422T230501
CREATED:20180614T203958Z
LAST-MODIFIED:20180614T203958Z
UID:1269-1529265600-1529265600@www.crownandbull.com
SUMMARY:Live Music - Chris McCarty @ 8pm
DESCRIPTION:
URL:https://www.crownandbull.com/event/live-music-chris-mccarty-8pm-2/
END:VEVENT
BEGIN:VEVENT
DTSTART;VALUE=DATE:20180617
DTEND;VALUE=DATE:20180618
DTSTAMP:20260422T230501
CREATED:20180614T204126Z
LAST-MODIFIED:20180614T204126Z
UID:1271-1529193600-1529279999@www.crownandbull.com
SUMMARY:Happy Father's Day To All Fathers - Thank You For All You Do
DESCRIPTION:
URL:https://www.crownandbull.com/event/happy-fathers-day-to-all-fathers-thank-you-for-all-you-do/
END:VEVENT
BEGIN:VEVENT
DTSTART;TZID=UTC:20180616T080000
DTEND;TZID=UTC:20180616T170000
DTSTAMP:20260422T230501
CREATED:20180614T203825Z
LAST-MODIFIED:20180614T203840Z
UID:1266-1529136000-1529168400@www.crownandbull.com
SUMMARY:Live DJ - Cutty Jones @ 9pm
DESCRIPTION:
URL:https://www.crownandbull.com/event/live-dj-cutty-jones-10pm/
END:VEVENT
BEGIN:VEVENT
DTSTART;TZID=UTC:20180615T220000
DTEND;TZID=UTC:20180615T220000
DTSTAMP:20260422T230501
CREATED:20180609T165037Z
LAST-MODIFIED:20180609T165037Z
UID:1200-1529100000-1529100000@www.crownandbull.com
SUMMARY:Live DJ @ 10pm
DESCRIPTION:
URL:https://www.crownandbull.com/event/live-dj-10pm-2/
END:VEVENT
BEGIN:VEVENT
DTSTART;TZID=UTC:20180614T200000
DTEND;TZID=UTC:20180614T200000
DTSTAMP:20260422T230501
CREATED:20180614T203720Z
LAST-MODIFIED:20180614T203720Z
UID:1264-1529006400-1529006400@www.crownandbull.com
SUMMARY:Live Music - Cutty Jones @ 8pm
DESCRIPTION:
URL:https://www.crownandbull.com/event/live-music-cutty-jones-8pm/
END:VEVENT
END:VCALENDAR