BEGIN:VCALENDAR
VERSION:2.0
PRODID:-//Crown &amp; Bull - ECPv6.15.20//NONSGML v1.0//EN
CALSCALE:GREGORIAN
METHOD:PUBLISH
X-WR-CALNAME:Crown &amp; Bull
X-ORIGINAL-URL:https://www.crownandbull.com
X-WR-CALDESC:Events for Crown &amp; Bull
REFRESH-INTERVAL;VALUE=DURATION:PT1H
X-Robots-Tag:noindex
X-PUBLISHED-TTL:PT1H
BEGIN:VTIMEZONE
TZID:UTC
BEGIN:STANDARD
TZOFFSETFROM:+0000
TZOFFSETTO:+0000
TZNAME:UTC
DTSTART:20200101T000000
END:STANDARD
END:VTIMEZONE
BEGIN:VEVENT
DTSTART;TZID=UTC:20210519T193000
DTEND;TZID=UTC:20210519T230000
DTSTAMP:20260421T122530
CREATED:20210523T200421Z
LAST-MODIFIED:20210523T200812Z
UID:1706-1621452600-1621465200@www.crownandbull.com
SUMMARY:LIVE MUSIC - THE BEN BRYAN BAND AT 7:30pm
DESCRIPTION:LIVE MUSIC – THE BEN BRYAN BAND AT 7:30pm
URL:https://www.crownandbull.com/event/music-the-bryan-band-at-630pm/
LOCATION:Crown & Bull\, 319 main street\, dunedin\, FL\, 34698\, United States
CATEGORIES:Live Music
END:VEVENT
END:VCALENDAR