BEGIN:VCALENDAR
VERSION:2.0
PRODID:-//Crown &amp; Bull - ECPv6.15.20//NONSGML v1.0//EN
CALSCALE:GREGORIAN
METHOD:PUBLISH
X-ORIGINAL-URL:https://www.crownandbull.com
X-WR-CALDESC:Events for Crown &amp; Bull
REFRESH-INTERVAL;VALUE=DURATION:PT1H
X-Robots-Tag:noindex
X-PUBLISHED-TTL:PT1H
BEGIN:VTIMEZONE
TZID:UTC
BEGIN:STANDARD
TZOFFSETFROM:+0000
TZOFFSETTO:+0000
TZNAME:UTC
DTSTART:20180101T000000
END:STANDARD
END:VTIMEZONE
BEGIN:VEVENT
DTSTART;TZID=UTC:20190220T080000
DTEND;TZID=UTC:20190220T170000
DTSTAMP:20260422T183121
CREATED:20190208T152501Z
LAST-MODIFIED:20190208T152501Z
UID:1497-1550649600-1550682000@www.crownandbull.com
SUMMARY:LIVE MUSIC - SEAN DELONG @ 7PM
DESCRIPTION:LIVE MUSIC – SEAN DELONG @ 7PM
URL:https://www.crownandbull.com/event/live-music-sean-delong-7pm-8/
LOCATION:FL
CATEGORIES:Live Music
END:VEVENT
BEGIN:VEVENT
DTSTART;TZID=UTC:20190220T183000
DTEND;TZID=UTC:20190220T203000
DTSTAMP:20260422T183121
CREATED:20190208T154047Z
LAST-MODIFIED:20190208T154047Z
UID:1508-1550687400-1550694600@www.crownandbull.com
SUMMARY:Resin Based Art Workshop-Dunedin Fl @ Kelly's Chica Boom Room
DESCRIPTION:Resin Based Art Workshop-Dunedin Fl at Kelly’s Chica Boom Room
URL:https://www.crownandbull.com/event/resin-based-art-workshop-dunedin-fl-kellys-chica-boom-room/
LOCATION:Crown&Bull\, 319 main street\, dunedin\, FL\, 34698\, United States
CATEGORIES:Arts
END:VEVENT
END:VCALENDAR