BEGIN:VCALENDAR
VERSION:2.0
PRODID:-//Crown &amp; Bull - ECPv6.15.20//NONSGML v1.0//EN
CALSCALE:GREGORIAN
METHOD:PUBLISH
X-ORIGINAL-URL:https://www.crownandbull.com
X-WR-CALDESC:Events for Crown &amp; Bull
REFRESH-INTERVAL;VALUE=DURATION:PT1H
X-Robots-Tag:noindex
X-PUBLISHED-TTL:PT1H
BEGIN:VTIMEZONE
TZID:UTC
BEGIN:STANDARD
TZOFFSETFROM:+0000
TZOFFSETTO:+0000
TZNAME:UTC
DTSTART:20170101T000000
END:STANDARD
END:VTIMEZONE
BEGIN:VEVENT
DTSTART;TZID=UTC:20180806T190000
DTEND;TZID=UTC:20180806T190000
DTSTAMP:20260423T073441
CREATED:20180730T161119Z
LAST-MODIFIED:20180730T161201Z
UID:1313-1533582000-1533582000@www.crownandbull.com
SUMMARY:Sopranos Trivia Night @ 7pm
DESCRIPTION:For more info\, follow us on Facebook!  \nhttps://www.facebook.com/events/2225891584298481/
URL:https://www.crownandbull.com/event/sopranos-trivia-night-7pm/
LOCATION:FL
END:VEVENT
BEGIN:VEVENT
DTSTART;TZID=UTC:20180806T210000
DTEND;TZID=UTC:20180806T233000
DTSTAMP:20260423T073441
CREATED:20180802T223455Z
LAST-MODIFIED:20180802T223455Z
UID:1372-1533589200-1533598200@www.crownandbull.com
SUMMARY:Live Music - Eric Engle @ 9pm
DESCRIPTION:
URL:https://www.crownandbull.com/event/live-music-eric-engle-9pm/
LOCATION:FL
END:VEVENT
END:VCALENDAR